BEGIN:VCALENDAR
PRODID:-//AT Content Types//AT Event//EN
VERSION:1.0
BEGIN:VEVENT
DTSTART:20170608T093000Z
DTEND:20170608T095500Z
DCREATED:20170608T070708Z
UID:ATEvent-b739b3ef-6751-4115-a683-27974252b0a5
SEQUENCE:0
LAST-MODIFIED:20170608T095036Z
SUMMARY:Conveni de col•laboració entre l'Ajuntament de Tarragona i l'Associació Inserta Empleo per al desenvolupament d'activitats que afavoreixin la integració laboral de persones amb discapacitat.
PRIORITY:3
TRANSP:0
END:VEVENT
END:VCALENDAR
