BEGIN:VCALENDAR
PRODID:-//AT Content Types//AT Event//EN
VERSION:2.0
METHOD:PUBLISH
BEGIN:VEVENT
DTSTAMP:20260424T032039Z
CREATED:20170719T104511Z
UID:ATEvent-884ce489-cb1d-43b3-9d48-74a540ed1022
LAST-MODIFIED:20170719T104609Z
SUMMARY:Denúncia de la CUP
DTSTART:20170719T110000Z
DTEND:20170719T113000Z
CLASS:PUBLIC
END:VEVENT
END:VCALENDAR
