BEGIN:VCALENDAR
PRODID:-//AT Content Types//AT Event//EN
VERSION:1.0
BEGIN:VEVENT
DTSTART:20170306T093000Z
DTEND:20170306T100000Z
DCREATED:20170303T132413Z
UID:ATEvent-7c42d3a2-c00e-42ee-ac0e-b642d07434cd
SEQUENCE:0
LAST-MODIFIED:20170306T072914Z
SUMMARY:Emprenedoria juvenil
PRIORITY:3
TRANSP:0
END:VEVENT
END:VCALENDAR
