BEGIN:VCALENDAR
PRODID:-//AT Content Types//AT Event//EN
VERSION:1.0
BEGIN:VEVENT
DTSTART:20170504T113000Z
DTEND:20170504T115500Z
DCREATED:20170503T115847Z
UID:ATEvent-21950123-0595-4810-a00c-aa6283cf4231
SEQUENCE:0
LAST-MODIFIED:20170503T120135Z
SUMMARY:Feel Vermut a favor de la campanya solidària per a la construcció del nou SJD Pediatric Cancer Center Barcelona
PRIORITY:3
TRANSP:0
END:VEVENT
END:VCALENDAR
