BEGIN:VCALENDAR
PRODID:-//AT Content Types//AT Event//EN
VERSION:1.0
BEGIN:VEVENT
DTSTART:20170612T100000Z
DTEND:20170612T110500Z
DCREATED:20170612T070734Z
UID:ATEvent-badc5586-ccf2-4350-9b30-f0b18198fd53
SEQUENCE:0
LAST-MODIFIED:20170612T085027Z
SUMMARY:Llars municipals
PRIORITY:3
TRANSP:0
END:VEVENT
END:VCALENDAR
