BEGIN:VCALENDAR
PRODID:-//AT Content Types//AT Event//EN
VERSION:2.0
METHOD:PUBLISH
BEGIN:VEVENT
DTSTAMP:20260424T032338Z
CREATED:20170407T085248Z
UID:ATEvent-5dfd69cd-fb19-4b63-a5d1-927fcd339435
LAST-MODIFIED:20170407T090041Z
SUMMARY:Nova campanya d’Aparcaments Municipals de Tarragona
DTSTART:20170410T090000Z
DTEND:20170410T093000Z
CLASS:PUBLIC
END:VEVENT
END:VCALENDAR
