BEGIN:VCALENDAR
PRODID:-//AT Content Types//AT Event//EN
VERSION:2.0
METHOD:PUBLISH
BEGIN:VEVENT
DTSTAMP:20260424T012651Z
CREATED:20170117T082546Z
UID:ATEvent-a930c976-699e-4009-bb11-86e344ef5331
LAST-MODIFIED:20170117T085741Z
SUMMARY:Novetats sobre el Mercat Central
DTSTART:20170116T163000Z
DTEND:20170116T170000Z
CLASS:PUBLIC
END:VEVENT
END:VCALENDAR
