BEGIN:VCALENDAR
PRODID:-//AT Content Types//AT Event//EN
VERSION:1.0
BEGIN:VEVENT
DTSTART:20170713T100000Z
DTEND:20170713T103500Z
DCREATED:20170714T090855Z
UID:ATEvent-79741b0c-ecad-4ff8-a2f1-d1127a332c59
SEQUENCE:0
LAST-MODIFIED:20170717T085813Z
SUMMARY:Patrocini d’Ercros als Jocs Mediterranis Tarragona 2018.
PRIORITY:3
TRANSP:0
END:VEVENT
END:VCALENDAR
