BEGIN:VCALENDAR
PRODID:-//AT Content Types//AT Event//EN
VERSION:1.0
BEGIN:VEVENT
DTSTART:20170518T103000Z
DTEND:20170518T105000Z
DCREATED:20170518T065000Z
UID:ATEvent-fe9d2f9c-fbae-4aca-93e5-30dab0fc56e6
SEQUENCE:0
LAST-MODIFIED:20170518T085454Z
SUMMARY:Presentació activitats de Cooperació Estiu
PRIORITY:3
TRANSP:0
END:VEVENT
END:VCALENDAR
