BEGIN:VCALENDAR
PRODID:-//AT Content Types//AT Event//EN
VERSION:2.0
METHOD:PUBLISH
BEGIN:VEVENT
DTSTAMP:20260424T012723Z
CREATED:20170125T124120Z
UID:ATEvent-e88eea31-f8d6-447a-9bbf-13766899f914
LAST-MODIFIED:20170125T140300Z
SUMMARY:Presentació de El Pati de Mares i Pares del Club dels Tarraconins
DTSTART:20170124T113000Z
DTEND:20170124T120000Z
CLASS:PUBLIC
END:VEVENT
END:VCALENDAR
