BEGIN:VCALENDAR
PRODID:-//AT Content Types//AT Event//EN
VERSION:1.0
BEGIN:VEVENT
DTSTART:20170907T100000Z
DTEND:20170907T103000Z
DCREATED:20170906T132338Z
UID:ATEvent-a2183df7-12d1-49bb-b18e-1e3cd8cd7c81
SEQUENCE:0
LAST-MODIFIED:20170907T080552Z
SUMMARY:Presentació de l’ampolla de Vermut Izaguirre Santa Tecla 2017
PRIORITY:3
TRANSP:0
END:VEVENT
END:VCALENDAR
