BEGIN:VCALENDAR
PRODID:-//AT Content Types//AT Event//EN
VERSION:1.0
BEGIN:VEVENT
DTSTART:20170811T100000Z
DTEND:20170811T115500Z
DCREATED:20170811T075911Z
UID:ATEvent-e95089e4-24a4-42c2-a244-472fb4b04b03
SEQUENCE:0
LAST-MODIFIED:20170811T084056Z
SUMMARY:Presentació de l’espectacle TarrAQUAnins
PRIORITY:3
TRANSP:0
END:VEVENT
END:VCALENDAR
