BEGIN:VCALENDAR
PRODID:-//AT Content Types//AT Event//EN
VERSION:2.0
METHOD:PUBLISH
BEGIN:VEVENT
DTSTAMP:20260424T032555Z
CREATED:20170512T091535Z
UID:ATEvent-a6f7f653-1a59-4f87-9d26-df0138f47aee
LAST-MODIFIED:20170512T103151Z
SUMMARY:Presentació de l’Estiu Tarragonajove.
DTSTART:20170515T103000Z
DTEND:20170515T105500Z
CLASS:PUBLIC
END:VEVENT
END:VCALENDAR
