BEGIN:VCALENDAR
PRODID:-//AT Content Types//AT Event//EN
VERSION:1.0
BEGIN:VEVENT
DTSTART:20170426T093000Z
DTEND:20170426T100000Z
DCREATED:20170425T101505Z
UID:ATEvent-3d3bd474-23fc-4a0d-ac1b-a6e10761590c
SEQUENCE:0
LAST-MODIFIED:20170425T104338Z
SUMMARY:Presentació de la 1a campanya de promoció per a TV\: “Tarragona\, un secret al Mediterrani”
PRIORITY:3
TRANSP:0
END:VEVENT
END:VCALENDAR
