BEGIN:VCALENDAR
PRODID:-//AT Content Types//AT Event//EN
VERSION:1.0
BEGIN:VEVENT
DTSTART:20170626T093000Z
DTEND:20170626T105000Z
DCREATED:20170626T094958Z
UID:ATEvent-90bc5aa9-cb54-4c28-b419-45533db16f99
SEQUENCE:0
LAST-MODIFIED:20170626T114134Z
SUMMARY:Presentació de la 8a edició de la Setmana Cantant de Tarragona
PRIORITY:3
TRANSP:0
END:VEVENT
END:VCALENDAR
