BEGIN:VCALENDAR
PRODID:-//AT Content Types//AT Event//EN
VERSION:2.0
METHOD:PUBLISH
BEGIN:VEVENT
DTSTAMP:20260424T033531Z
CREATED:20170710T074645Z
UID:ATEvent-9d915216-7ea9-469f-b127-ed4cc0f8dba8
LAST-MODIFIED:20170710T123523Z
SUMMARY:Presentació de la Campanya de la recollida selectiva al sector hoteler i de restauració
DTSTART:20170711T100000Z
DTEND:20170711T104500Z
CLASS:PUBLIC
END:VEVENT
END:VCALENDAR
