BEGIN:VCALENDAR
PRODID:-//AT Content Types//AT Event//EN
VERSION:1.0
BEGIN:VEVENT
DTSTART:20170703T090000Z
DTEND:20170703T093000Z
DCREATED:20170703T121134Z
UID:ATEvent-52b1993d-4fad-49b8-bd59-9a9eb3cc12e3
SEQUENCE:0
LAST-MODIFIED:20170703T121209Z
SUMMARY:Presentació de la guia i la visita a la Capella de Nostra Senyora del Sagrat Cor
PRIORITY:3
TRANSP:0
END:VEVENT
END:VCALENDAR
