BEGIN:VCALENDAR
PRODID:-//AT Content Types//AT Event//EN
VERSION:1.0
BEGIN:VEVENT
DTSTART:20171117T103000Z
DTEND:20171117T110000Z
DCREATED:20171117T095149Z
UID:ATEvent-7c3b09fc-0061-473a-9029-56baacfe72be
SEQUENCE:0
LAST-MODIFIED:20171117T115044Z
SUMMARY:Presentació de la Mitja Marató Ciutat de Tarragona + 10 K
PRIORITY:3
TRANSP:0
END:VEVENT
END:VCALENDAR
