BEGIN:VCALENDAR
PRODID:-//AT Content Types//AT Event//EN
VERSION:1.0
BEGIN:VEVENT
DTSTART:20170425T163000Z
DTEND:20170425T170000Z
DCREATED:20170424T080046Z
UID:ATEvent-93509dab-b59d-479e-8f7d-cc17bf68d1bc
SEQUENCE:0
LAST-MODIFIED:20170424T083759Z
SUMMARY:Presentació de la Mostra de Teatre Jove 2017
PRIORITY:3
TRANSP:0
END:VEVENT
END:VCALENDAR
