BEGIN:VCALENDAR
PRODID:-//AT Content Types//AT Event//EN
VERSION:1.0
BEGIN:VEVENT
DTSTART:20170605T100000Z
DTEND:20170605T110000Z
DCREATED:20170605T065229Z
UID:ATEvent-0a0d7a46-7c0d-48c6-bda7-e819a8b32091
SEQUENCE:0
LAST-MODIFIED:20170605T084402Z
SUMMARY:Presentació de la Nit Empresarial 2017
PRIORITY:3
TRANSP:0
END:VEVENT
END:VCALENDAR
