BEGIN:VCALENDAR
PRODID:-//AT Content Types//AT Event//EN
VERSION:2.0
METHOD:PUBLISH
BEGIN:VEVENT
DTSTAMP:20260424T032615Z
CREATED:20170830T111949Z
UID:ATEvent-960d73ea-3325-4fa6-8a2a-3b08fe282f09
LAST-MODIFIED:20170830T113445Z
SUMMARY:Presentació de la nova temporada dels Teatres de Tarragona.
DTSTART:20170830T090000Z
DTEND:20170830T093000Z
CLASS:PUBLIC
END:VEVENT
END:VCALENDAR
