BEGIN:VCALENDAR
PRODID:-//AT Content Types//AT Event//EN
VERSION:2.0
METHOD:PUBLISH
BEGIN:VEVENT
DTSTAMP:20260424T032008Z
CREATED:20170717T104241Z
UID:ATEvent-6c82c73e-6333-45ab-b2d5-80bf0c32a0a3
LAST-MODIFIED:20170717T131101Z
SUMMARY:Presentació de la programació de Sant Magí 2017
DTSTART:20170718T090000Z
DTEND:20170718T100000Z
CLASS:PUBLIC
END:VEVENT
END:VCALENDAR
