BEGIN:VCALENDAR
PRODID:-//AT Content Types//AT Event//EN
VERSION:2.0
METHOD:PUBLISH
BEGIN:VEVENT
DTSTAMP:20260424T043821Z
CREATED:20170927T124737Z
UID:ATEvent-bea574ec-6d33-415b-b5ab-b93897e552a1
LAST-MODIFIED:20170927T131153Z
SUMMARY:Presentació de la Tardor Literària
DTSTART:20170928T094500Z
DTEND:20170928T101500Z
CLASS:PUBLIC
END:VEVENT
END:VCALENDAR
