BEGIN:VCALENDAR
PRODID:-//AT Content Types//AT Event//EN
VERSION:2.0
METHOD:PUBLISH
BEGIN:VEVENT
DTSTAMP:20260424T033023Z
CREATED:20170516T090642Z
UID:ATEvent-9ea9b50e-8459-45ec-8aeb-c3dfc3be14d1
LAST-MODIFIED:20170516T091140Z
SUMMARY:Presentació de la VII Firavida “Juguem plegats\, juguem al barri”\, que se celebrarà el proper dissabte 20 de maig.
DTSTART:20170517T091500Z
DTEND:20170517T095500Z
CLASS:PUBLIC
END:VEVENT
END:VCALENDAR
