BEGIN:VCALENDAR
PRODID:-//AT Content Types//AT Event//EN
VERSION:2.0
METHOD:PUBLISH
BEGIN:VEVENT
DTSTAMP:20260424T032759Z
CREATED:20170912T131413Z
UID:ATEvent-86c807cb-23a5-489f-873a-e32ff6ca20ec
LAST-MODIFIED:20170913T103123Z
SUMMARY:Presentació de la XIII Marató de donants de sang que tindrà lloc dissabte 16 de setembre\, al Teatre Tarragona.
DTSTART:20170913T090000Z
DTEND:20170913T093000Z
CLASS:PUBLIC
END:VEVENT
END:VCALENDAR
