BEGIN:VCALENDAR
PRODID:-//AT Content Types//AT Event//EN
VERSION:2.0
METHOD:PUBLISH
BEGIN:VEVENT
DTSTAMP:20260424T032556Z
CREATED:20170503T091536Z
UID:ATEvent-a936390d-7436-421e-a40d-a6199d160b7d
LAST-MODIFIED:20170503T100150Z
SUMMARY:Presentació de les jornades Tàrraco a Taula
DTSTART:20170504T080000Z
DTEND:20170504T083000Z
CLASS:PUBLIC
END:VEVENT
END:VCALENDAR
