BEGIN:VCALENDAR
PRODID:-//AT Content Types//AT Event//EN
VERSION:2.0
METHOD:PUBLISH
BEGIN:VEVENT
DTSTAMP:20260424T033210Z
CREATED:20170523T114640Z
UID:ATEvent-7263275b-ffdb-4e88-b4b3-574202252597
LAST-MODIFIED:20170523T115014Z
SUMMARY:Presentació de les XXXIV Jornades Tècniques de l’Asociación Española de Abastecimientos de Agua y Saneamiento (AEAS) que se celebren el 24\, 25 i 26 de maig a Tarragona
DTSTART:20170524T083000Z
DTEND:20170524T090000Z
CLASS:PUBLIC
END:VEVENT
END:VCALENDAR
