BEGIN:VCALENDAR
PRODID:-//AT Content Types//AT Event//EN
VERSION:2.0
METHOD:PUBLISH
BEGIN:VEVENT
DTSTAMP:20260424T033149Z
CREATED:20170516T095032Z
UID:ATEvent-5d7eea31-53ea-4aa2-8a90-a0c5843dd764
LAST-MODIFIED:20170516T105614Z
SUMMARY:Presentació de les XXXIV Jornades Tècniques de l’Asociación Española de Abastecimientos de Agua y Saneamiento (AEAS) que se celebren el 24\, 25 i 26 de maig a Tarragona
DTSTART:20170517T083000Z
DTEND:20170517T092000Z
CLASS:PUBLIC
END:VEVENT
END:VCALENDAR
