BEGIN:VCALENDAR
PRODID:-//AT Content Types//AT Event//EN
VERSION:2.0
METHOD:PUBLISH
BEGIN:VEVENT
DTSTAMP:20260424T032946Z
CREATED:20170830T111637Z
UID:ATEvent-b61200ef-365a-4954-85d0-f362ad07248e
LAST-MODIFIED:20170830T113445Z
SUMMARY:Presentació del barret i de l’obertura de la parada de les festes i activitats festives al Mercat Central
DTSTART:20170825T100000Z
DTEND:20170825T103000Z
CLASS:PUBLIC
END:VEVENT
END:VCALENDAR
