BEGIN:VCALENDAR
PRODID:-//AT Content Types//AT Event//EN
VERSION:1.0
BEGIN:VEVENT
DTSTART:20170503T103000Z
DTEND:20170503T112000Z
DCREATED:20170503T114406Z
UID:ATEvent-79dbd722-798c-4ee4-af90-61e56f656de7
SEQUENCE:0
LAST-MODIFIED:20170503T120059Z
SUMMARY:Presentació del Festival Sota La Palmera
PRIORITY:3
TRANSP:0
END:VEVENT
END:VCALENDAR
