BEGIN:VCALENDAR
PRODID:-//AT Content Types//AT Event//EN
VERSION:2.0
METHOD:PUBLISH
BEGIN:VEVENT
DTSTAMP:20260424T032723Z
CREATED:20170503T091416Z
UID:ATEvent-efbdbff9-da91-4aed-9fe1-87e897a13e02
LAST-MODIFIED:20170503T102324Z
SUMMARY:Presentació del Festival Sota La Palmera
DTSTART:20170508T103000Z
DTEND:20170508T110000Z
CLASS:PUBLIC
END:VEVENT
END:VCALENDAR
