BEGIN:VCALENDAR
PRODID:-//AT Content Types//AT Event//EN
VERSION:1.0
BEGIN:VEVENT
DTSTART:20170530T090000Z
DTEND:20170530T100000Z
DCREATED:20170529T105005Z
UID:ATEvent-4507f046-8938-4956-bb31-4158807015c3
SEQUENCE:0
LAST-MODIFIED:20170529T111221Z
SUMMARY:Presentació del IV Festival Internacional de Teatre de Tarragona\, FITT
PRIORITY:3
TRANSP:0
END:VEVENT
END:VCALENDAR
