BEGIN:VCALENDAR
PRODID:-//AT Content Types//AT Event//EN
VERSION:1.0
BEGIN:VEVENT
DTSTART:20170831T093000Z
DTEND:20170831T100000Z
DCREATED:20170830T111846Z
UID:ATEvent-3f651128-fbc2-49ef-9f95-13ed9b95ab82
SEQUENCE:0
LAST-MODIFIED:20170830T113445Z
SUMMARY:Presentació del nou barrilet de les festes 2017
PRIORITY:3
TRANSP:0
END:VEVENT
END:VCALENDAR
