BEGIN:VCALENDAR
PRODID:-//AT Content Types//AT Event//EN
VERSION:2.0
METHOD:PUBLISH
BEGIN:VEVENT
DTSTAMP:20260424T032317Z
CREATED:20170630T084427Z
UID:ATEvent-712bd699-3e7c-43fe-b4cd-840b48f8ad0b
LAST-MODIFIED:20170706T103631Z
SUMMARY:Presentació del Pla Municipal de Biblioteques
DTSTART:20170703T080000Z
DTEND:20170703T084000Z
CLASS:PUBLIC
END:VEVENT
END:VCALENDAR
