BEGIN:VCALENDAR
PRODID:-//AT Content Types//AT Event//EN
VERSION:2.0
METHOD:PUBLISH
BEGIN:VEVENT
DTSTAMP:20260424T043735Z
CREATED:20171121T122123Z
UID:ATEvent-f616cb80-6cf2-4dc2-8b20-03b1ebd56da8
LAST-MODIFIED:20171121T124453Z
SUMMARY:Presentació del programa del Festival REC 2017
DTSTART:20171122T110000Z
DTEND:20171122T113000Z
CLASS:PUBLIC
END:VEVENT
END:VCALENDAR
