BEGIN:VCALENDAR
PRODID:-//AT Content Types//AT Event//EN
VERSION:2.0
METHOD:PUBLISH
BEGIN:VEVENT
DTSTAMP:20260424T032824Z
CREATED:20170512T100548Z
UID:ATEvent-88367d62-692d-4f22-bc40-a6648168e191
LAST-MODIFIED:20170512T103231Z
SUMMARY:Presentació dels guanyadors i acte de lliurament dels Premis Literaris Ciutat de Tarragona 2017
DTSTART:20170513T170000Z
DTEND:20170513T185500Z
CLASS:PUBLIC
END:VEVENT
END:VCALENDAR
