BEGIN:VCALENDAR
PRODID:-//AT Content Types//AT Event//EN
VERSION:1.0
BEGIN:VEVENT
DTSTART:20170302T110000Z
DTEND:20170302T113000Z
DCREATED:20170324T085716Z
UID:ATEvent-7126c2aa-b541-48ee-b0eb-4ae1614aa530
SEQUENCE:0
LAST-MODIFIED:20170324T094329Z
SUMMARY:Presentació documental Gaudí-Jujol
PRIORITY:3
TRANSP:0
END:VEVENT
END:VCALENDAR
