BEGIN:VCALENDAR
PRODID:-//AT Content Types//AT Event//EN
VERSION:1.0
BEGIN:VEVENT
DTSTART:20170613T083000Z
DTEND:20170613T090000Z
DCREATED:20170612T094102Z
UID:ATEvent-ebcf72cc-4364-49ed-afa7-e9095787cd9c
SEQUENCE:0
LAST-MODIFIED:20170612T122050Z
SUMMARY:Presentació Fira del Vi
PRIORITY:3
TRANSP:0
END:VEVENT
END:VCALENDAR
