BEGIN:VCALENDAR
PRODID:-//AT Content Types//AT Event//EN
VERSION:1.0
BEGIN:VEVENT
DTSTART:20170516T081500Z
DTEND:20170516T092000Z
DCREATED:20170515T122250Z
UID:ATEvent-8f0a48bb-87f5-48e2-ae59-5711c256ddc1
SEQUENCE:0
LAST-MODIFIED:20170515T122555Z
SUMMARY:Presentació Mediterranean Tourism Meeting.
PRIORITY:3
TRANSP:0
END:VEVENT
END:VCALENDAR
