BEGIN:VCALENDAR
PRODID:-//AT Content Types//AT Event//EN
VERSION:1.0
BEGIN:VEVENT
DTSTART:20170906T090000Z
DTEND:20170906T093000Z
DCREATED:20170905T083345Z
UID:ATEvent-eec06e05-505e-4724-a3ac-6bb11fcd21ae
SEQUENCE:0
LAST-MODIFIED:20170906T072214Z
SUMMARY:Presentació programació Centres Cívics Tardor 2017
PRIORITY:3
TRANSP:0
END:VEVENT
END:VCALENDAR
