BEGIN:VCALENDAR
PRODID:-//AT Content Types//AT Event//EN
VERSION:2.0
METHOD:PUBLISH
BEGIN:VEVENT
DTSTAMP:20260424T032110Z
CREATED:20170830T110143Z
UID:ATEvent-b4acbea7-16f6-4614-a5ff-f205975ac592
LAST-MODIFIED:20170830T113354Z
SUMMARY:Presentació Santa Tecla 2017
DTSTART:20170824T090000Z
DTEND:20170824T093000Z
CLASS:PUBLIC
END:VEVENT
END:VCALENDAR
