BEGIN:VCALENDAR
PRODID:-//AT Content Types//AT Event//EN
VERSION:1.0
BEGIN:VEVENT
DTSTART:20170411T090000Z
DTEND:20170411T100000Z
DCREATED:20170410T124001Z
UID:ATEvent-558cb048-93f6-4aaf-9418-edeef1e43a49
SEQUENCE:0
LAST-MODIFIED:20170410T124725Z
SUMMARY:Presentació Sport Business Symposium 2017
PRIORITY:3
TRANSP:0
END:VEVENT
END:VCALENDAR
