BEGIN:VCALENDAR
PRODID:-//AT Content Types//AT Event//EN
VERSION:2.0
METHOD:PUBLISH
BEGIN:VEVENT
DTSTAMP:20260424T032207Z
CREATED:20170605T115822Z
UID:ATEvent-948b505b-e9b4-478b-8172-0e07659a85c9
LAST-MODIFIED:20170605T135651Z
SUMMARY:Presentació V Fòrum Smart Tarragona
DTSTART:20170606T093000Z
DTEND:20170606T105500Z
CLASS:PUBLIC
END:VEVENT
END:VCALENDAR
