BEGIN:VCALENDAR
PRODID:-//AT Content Types//AT Event//EN
VERSION:1.0
BEGIN:VEVENT
DTSTART:20170329T074500Z
DTEND:20170329T083000Z
DCREATED:20170405T110041Z
UID:ATEvent-75e883f3-6634-4781-b6fb-900e5e215b2c
SEQUENCE:0
LAST-MODIFIED:20170406T104158Z
SUMMARY:Presentació XIX Festival Tarraco Viva
PRIORITY:3
TRANSP:0
END:VEVENT
END:VCALENDAR
