BEGIN:VCALENDAR
PRODID:-//AT Content Types//AT Event//EN
VERSION:2.0
METHOD:PUBLISH
BEGIN:VEVENT
DTSTAMP:20260424T031703Z
CREATED:20170524T091434Z
UID:ATEvent-b110cf8e-229c-408e-bd13-4fcda8d88175
LAST-MODIFIED:20170524T094914Z
SUMMARY:Presentació dels actes pel Dia Mundial del Medi Ambient
DTSTART:20170525T080000Z
DTEND:20170525T095500Z
CLASS:PUBLIC
END:VEVENT
END:VCALENDAR
