BEGIN:VCALENDAR
PRODID:-//AT Content Types//AT Event//EN
VERSION:2.0
METHOD:PUBLISH
BEGIN:VEVENT
DTSTAMP:20260424T032053Z
CREATED:20170529T115750Z
UID:ATEvent-42a161c6-f115-4503-ad32-cb4351bc6202
LAST-MODIFIED:20170529T123739Z
SUMMARY:Programa Integral per a la recepció de creuers
DTSTART:20170530T080000Z
DTEND:20170530T090000Z
CLASS:PUBLIC
END:VEVENT
END:VCALENDAR
