BEGIN:VCALENDAR
PRODID:-//AT Content Types//AT Event//EN
VERSION:1.0
BEGIN:VEVENT
DTSTART:20170303T110000Z
DTEND:20170303T113000Z
DCREATED:20170324T085902Z
UID:ATEvent-cadbbcb6-ec4a-4d7b-b89c-6a5986948695
SEQUENCE:0
LAST-MODIFIED:20170324T094114Z
SUMMARY:Restauració Circ tram Sedassos
PRIORITY:3
TRANSP:0
END:VEVENT
END:VCALENDAR
