BEGIN:VCALENDAR
PRODID:-//AT Content Types//AT Event//EN
VERSION:1.0
BEGIN:VEVENT
DTSTART:20170607T080000Z
DTEND:20170607T090000Z
DCREATED:20170606T160946Z
UID:ATEvent-d0f303f0-d92a-41b4-bc77-59ea38aae133
SEQUENCE:0
LAST-MODIFIED:20170607T074801Z
SUMMARY:Signatura de conveni amb PIMEC per al foment i millora de la competitivitat empresarial.
PRIORITY:3
TRANSP:0
END:VEVENT
END:VCALENDAR
