BEGIN:VCALENDAR
PRODID:-//AT Content Types//AT Event//EN
VERSION:2.0
METHOD:PUBLISH
BEGIN:VEVENT
DTSTAMP:20260424T033119Z
CREATED:20170511T103121Z
UID:ATEvent-ee0559f4-84ac-4520-b073-e2ac2667a30c
LAST-MODIFIED:20170511T111506Z
SUMMARY:Signatura del contracte de patrocini de Loterías y Apuestas del Estado amb els Jocs Mediterranis Tarragona 2018
DTSTART:20170512T103000Z
DTEND:20170512T105500Z
CLASS:PUBLIC
END:VEVENT
END:VCALENDAR
