BEGIN:VCALENDAR
PRODID:-//AT Content Types//AT Event//EN
VERSION:2.0
METHOD:PUBLISH
BEGIN:VEVENT
DTSTAMP:20260424T032708Z
CREATED:20170609T123252Z
UID:ATEvent-93399e2e-e854-48e6-9349-e45825a44ff2
LAST-MODIFIED:20170609T125848Z
SUMMARY:Millora de la competitivitat del polígon petroquímic
DTSTART:20170612T090000Z
DTEND:20170612T094000Z
CLASS:PUBLIC
END:VEVENT
END:VCALENDAR
